BEGIN:VCALENDAR
VERSION:2.0
PRODID:-//My Calendar//http://www.joedolson.com//v3.1.5//EN
METHOD:PUBLISH
CALSCALE:GREGORIAN
X-WR-CALNAME:Childrens Birthday Parties
X-PUBLISHED-TTL:PT24H
REFRESH-INTERVAL;VALUE=DURATION:PT24H
X-WR-CALDESC:Events from Childrens Birthday Parties
BEGIN:VEVENT
UID:1-1
LOCATION:
SUMMARY:School Holidays
DTSTAMP:20150403T000000
ORGANIZER;CN=Childrens Birthday Parties:MAILTO:childrensbirthdayparties1@gmail.com
DTSTART;TZID=Australia/Sydney:20150403T000000
DTEND;TZID=Australia/Sydney:20150421T000000
URL;VALUE=URI:http://www.childrensbirthdayparties.com.au/my-calendar/
DESCRIPTION:School Holidays start Thursday 2nd AprilSchol will usually go back Tuesday 21st April 
CATEGORIES:General
END:VEVENT
BEGIN:VEVENT
UID:2-1
LOCATION:
SUMMARY:School Holidays
DTSTAMP:20150404T000000
ORGANIZER;CN=Childrens Birthday Parties:MAILTO:childrensbirthdayparties1@gmail.com
DTSTART;TZID=Australia/Sydney:20150404T000000
DTEND;TZID=Australia/Sydney:20150422T000000
URL;VALUE=URI:http://www.childrensbirthdayparties.com.au/my-calendar/
DESCRIPTION:School Holidays start Thursday 2nd AprilSchol will usually go back Tuesday 21st April 
CATEGORIES:General
END:VEVENT
BEGIN:VEVENT
UID:3-1
LOCATION:
SUMMARY:School Holidays
DTSTAMP:20150405T000000
ORGANIZER;CN=Childrens Birthday Parties:MAILTO:childrensbirthdayparties1@gmail.com
DTSTART;TZID=Australia/Sydney:20150405T000000
DTEND;TZID=Australia/Sydney:20150423T000000
URL;VALUE=URI:http://www.childrensbirthdayparties.com.au/my-calendar/
DESCRIPTION:School Holidays start Thursday 2nd AprilSchol will usually go back Tuesday 21st April 
CATEGORIES:General
END:VEVENT
BEGIN:VEVENT
UID:4-1
LOCATION:
SUMMARY:School Holidays
DTSTAMP:20150406T000000
ORGANIZER;CN=Childrens Birthday Parties:MAILTO:childrensbirthdayparties1@gmail.com
DTSTART;TZID=Australia/Sydney:20150406T000000
DTEND;TZID=Australia/Sydney:20150424T000000
URL;VALUE=URI:http://www.childrensbirthdayparties.com.au/my-calendar/
DESCRIPTION:School Holidays start Thursday 2nd AprilSchol will usually go back Tuesday 21st April 
CATEGORIES:General
END:VEVENT
BEGIN:VEVENT
UID:5-1
LOCATION:
SUMMARY:School Holidays
DTSTAMP:20150407T000000
ORGANIZER;CN=Childrens Birthday Parties:MAILTO:childrensbirthdayparties1@gmail.com
DTSTART;TZID=Australia/Sydney:20150407T000000
DTEND;TZID=Australia/Sydney:20150425T000000
URL;VALUE=URI:http://www.childrensbirthdayparties.com.au/my-calendar/
DESCRIPTION:School Holidays start Thursday 2nd AprilSchol will usually go back Tuesday 21st April 
CATEGORIES:General
END:VEVENT
BEGIN:VEVENT
UID:6-1
LOCATION:
SUMMARY:School Holidays
DTSTAMP:20150408T000000
ORGANIZER;CN=Childrens Birthday Parties:MAILTO:childrensbirthdayparties1@gmail.com
DTSTART;TZID=Australia/Sydney:20150408T000000
DTEND;TZID=Australia/Sydney:20150426T000000
URL;VALUE=URI:http://www.childrensbirthdayparties.com.au/my-calendar/
DESCRIPTION:School Holidays start Thursday 2nd AprilSchol will usually go back Tuesday 21st April 
CATEGORIES:General
END:VEVENT
BEGIN:VEVENT
UID:7-1
LOCATION:
SUMMARY:School Holidays
DTSTAMP:20150409T000000
ORGANIZER;CN=Childrens Birthday Parties:MAILTO:childrensbirthdayparties1@gmail.com
DTSTART;TZID=Australia/Sydney:20150409T000000
DTEND;TZID=Australia/Sydney:20150427T000000
URL;VALUE=URI:http://www.childrensbirthdayparties.com.au/my-calendar/
DESCRIPTION:School Holidays start Thursday 2nd AprilSchol will usually go back Tuesday 21st April 
CATEGORIES:General
END:VEVENT
BEGIN:VEVENT
UID:8-1
LOCATION:
SUMMARY:School Holidays
DTSTAMP:20150410T000000
ORGANIZER;CN=Childrens Birthday Parties:MAILTO:childrensbirthdayparties1@gmail.com
DTSTART;TZID=Australia/Sydney:20150410T000000
DTEND;TZID=Australia/Sydney:20150428T000000
URL;VALUE=URI:http://www.childrensbirthdayparties.com.au/my-calendar/
DESCRIPTION:School Holidays start Thursday 2nd AprilSchol will usually go back Tuesday 21st April 
CATEGORIES:General
END:VEVENT
BEGIN:VEVENT
UID:9-1
LOCATION:
SUMMARY:School Holidays
DTSTAMP:20150411T000000
ORGANIZER;CN=Childrens Birthday Parties:MAILTO:childrensbirthdayparties1@gmail.com
DTSTART;TZID=Australia/Sydney:20150411T000000
DTEND;TZID=Australia/Sydney:20150429T000000
URL;VALUE=URI:http://www.childrensbirthdayparties.com.au/my-calendar/
DESCRIPTION:School Holidays start Thursday 2nd AprilSchol will usually go back Tuesday 21st April 
CATEGORIES:General
END:VEVENT
BEGIN:VEVENT
UID:10-1
LOCATION:
SUMMARY:School Holidays
DTSTAMP:20150412T000000
ORGANIZER;CN=Childrens Birthday Parties:MAILTO:childrensbirthdayparties1@gmail.com
DTSTART;TZID=Australia/Sydney:20150412T000000
DTEND;TZID=Australia/Sydney:20150430T000000
URL;VALUE=URI:http://www.childrensbirthdayparties.com.au/my-calendar/
DESCRIPTION:School Holidays start Thursday 2nd AprilSchol will usually go back Tuesday 21st April 
CATEGORIES:General
END:VEVENT
BEGIN:VEVENT
UID:11-1
LOCATION:
SUMMARY:School Holidays
DTSTAMP:20150413T000000
ORGANIZER;CN=Childrens Birthday Parties:MAILTO:childrensbirthdayparties1@gmail.com
DTSTART;TZID=Australia/Sydney:20150413T000000
DTEND;TZID=Australia/Sydney:20150501T000000
URL;VALUE=URI:http://www.childrensbirthdayparties.com.au/my-calendar/
DESCRIPTION:School Holidays start Thursday 2nd AprilSchol will usually go back Tuesday 21st April 
CATEGORIES:General
END:VEVENT
BEGIN:VEVENT
UID:12-1
LOCATION:
SUMMARY:School Holidays
DTSTAMP:20150414T000000
ORGANIZER;CN=Childrens Birthday Parties:MAILTO:childrensbirthdayparties1@gmail.com
DTSTART;TZID=Australia/Sydney:20150414T000000
DTEND;TZID=Australia/Sydney:20150502T000000
URL;VALUE=URI:http://www.childrensbirthdayparties.com.au/my-calendar/
DESCRIPTION:School Holidays start Thursday 2nd AprilSchol will usually go back Tuesday 21st April 
CATEGORIES:General
END:VEVENT
BEGIN:VEVENT
UID:13-1
LOCATION:
SUMMARY:School Holidays
DTSTAMP:20150415T000000
ORGANIZER;CN=Childrens Birthday Parties:MAILTO:childrensbirthdayparties1@gmail.com
DTSTART;TZID=Australia/Sydney:20150415T000000
DTEND;TZID=Australia/Sydney:20150503T000000
URL;VALUE=URI:http://www.childrensbirthdayparties.com.au/my-calendar/
DESCRIPTION:School Holidays start Thursday 2nd AprilSchol will usually go back Tuesday 21st April 
CATEGORIES:General
END:VEVENT
BEGIN:VEVENT
UID:14-1
LOCATION:
SUMMARY:School Holidays
DTSTAMP:20150416T000000
ORGANIZER;CN=Childrens Birthday Parties:MAILTO:childrensbirthdayparties1@gmail.com
DTSTART;TZID=Australia/Sydney:20150416T000000
DTEND;TZID=Australia/Sydney:20150504T000000
URL;VALUE=URI:http://www.childrensbirthdayparties.com.au/my-calendar/
DESCRIPTION:School Holidays start Thursday 2nd AprilSchol will usually go back Tuesday 21st April 
CATEGORIES:General
END:VEVENT
BEGIN:VEVENT
UID:15-1
LOCATION:
SUMMARY:School Holidays
DTSTAMP:20150417T000000
ORGANIZER;CN=Childrens Birthday Parties:MAILTO:childrensbirthdayparties1@gmail.com
DTSTART;TZID=Australia/Sydney:20150417T000000
DTEND;TZID=Australia/Sydney:20150505T000000
URL;VALUE=URI:http://www.childrensbirthdayparties.com.au/my-calendar/
DESCRIPTION:School Holidays start Thursday 2nd AprilSchol will usually go back Tuesday 21st April 
CATEGORIES:General
END:VEVENT
BEGIN:VEVENT
UID:16-1
LOCATION:
SUMMARY:School Holidays
DTSTAMP:20150418T000000
ORGANIZER;CN=Childrens Birthday Parties:MAILTO:childrensbirthdayparties1@gmail.com
DTSTART;TZID=Australia/Sydney:20150418T000000
DTEND;TZID=Australia/Sydney:20150506T000000
URL;VALUE=URI:http://www.childrensbirthdayparties.com.au/my-calendar/
DESCRIPTION:School Holidays start Thursday 2nd AprilSchol will usually go back Tuesday 21st April 
CATEGORIES:General
END:VEVENT
BEGIN:VEVENT
UID:17-1
LOCATION:
SUMMARY:School Holidays
DTSTAMP:20150419T000000
ORGANIZER;CN=Childrens Birthday Parties:MAILTO:childrensbirthdayparties1@gmail.com
DTSTART;TZID=Australia/Sydney:20150419T000000
DTEND;TZID=Australia/Sydney:20150507T000000
URL;VALUE=URI:http://www.childrensbirthdayparties.com.au/my-calendar/
DESCRIPTION:School Holidays start Thursday 2nd AprilSchol will usually go back Tuesday 21st April 
CATEGORIES:General
END:VEVENT
BEGIN:VEVENT
UID:18-1
LOCATION:
SUMMARY:School Holidays
DTSTAMP:20150420T000000
ORGANIZER;CN=Childrens Birthday Parties:MAILTO:childrensbirthdayparties1@gmail.com
DTSTART;TZID=Australia/Sydney:20150420T000000
DTEND;TZID=Australia/Sydney:20150508T000000
URL;VALUE=URI:http://www.childrensbirthdayparties.com.au/my-calendar/
DESCRIPTION:School Holidays start Thursday 2nd AprilSchol will usually go back Tuesday 21st April 
CATEGORIES:General
END:VEVENT
BEGIN:VEVENT
UID:19-1
LOCATION:
SUMMARY:School Holidays
DTSTAMP:20150421T000000
ORGANIZER;CN=Childrens Birthday Parties:MAILTO:childrensbirthdayparties1@gmail.com
DTSTART;TZID=Australia/Sydney:20150421T000000
DTEND;TZID=Australia/Sydney:20150509T000000
URL;VALUE=URI:http://www.childrensbirthdayparties.com.au/my-calendar/
DESCRIPTION:School Holidays start Thursday 2nd AprilSchol will usually go back Tuesday 21st April 
CATEGORIES:General
END:VEVENT
BEGIN:VEVENT
UID:20-1
LOCATION:
SUMMARY:School Holidays
DTSTAMP:20150422T000000
ORGANIZER;CN=Childrens Birthday Parties:MAILTO:childrensbirthdayparties1@gmail.com
DTSTART;TZID=Australia/Sydney:20150422T000000
DTEND;TZID=Australia/Sydney:20150510T000000
URL;VALUE=URI:http://www.childrensbirthdayparties.com.au/my-calendar/
DESCRIPTION:School Holidays start Thursday 2nd AprilSchol will usually go back Tuesday 21st April 
CATEGORIES:General
END:VEVENT
BEGIN:VEVENT
UID:21-1
LOCATION:
SUMMARY:School Holidays
DTSTAMP:20150423T000000
ORGANIZER;CN=Childrens Birthday Parties:MAILTO:childrensbirthdayparties1@gmail.com
DTSTART;TZID=Australia/Sydney:20150423T000000
DTEND;TZID=Australia/Sydney:20150511T000000
URL;VALUE=URI:http://www.childrensbirthdayparties.com.au/my-calendar/
DESCRIPTION:School Holidays start Thursday 2nd AprilSchol will usually go back Tuesday 21st April 
CATEGORIES:General
END:VEVENT
BEGIN:VEVENT
UID:22-1
LOCATION:
SUMMARY:School Holidays
DTSTAMP:20150424T000000
ORGANIZER;CN=Childrens Birthday Parties:MAILTO:childrensbirthdayparties1@gmail.com
DTSTART;TZID=Australia/Sydney:20150424T000000
DTEND;TZID=Australia/Sydney:20150512T000000
URL;VALUE=URI:http://www.childrensbirthdayparties.com.au/my-calendar/
DESCRIPTION:School Holidays start Thursday 2nd AprilSchol will usually go back Tuesday 21st April 
CATEGORIES:General
END:VEVENT
BEGIN:VEVENT
UID:23-1
LOCATION:
SUMMARY:School Holidays
DTSTAMP:20150425T000000
ORGANIZER;CN=Childrens Birthday Parties:MAILTO:childrensbirthdayparties1@gmail.com
DTSTART;TZID=Australia/Sydney:20150425T000000
DTEND;TZID=Australia/Sydney:20150513T000000
URL;VALUE=URI:http://www.childrensbirthdayparties.com.au/my-calendar/
DESCRIPTION:School Holidays start Thursday 2nd AprilSchol will usually go back Tuesday 21st April 
CATEGORIES:General
END:VEVENT
BEGIN:VEVENT
UID:24-1
LOCATION:
SUMMARY:School Holidays
DTSTAMP:20150426T000000
ORGANIZER;CN=Childrens Birthday Parties:MAILTO:childrensbirthdayparties1@gmail.com
DTSTART;TZID=Australia/Sydney:20150426T000000
DTEND;TZID=Australia/Sydney:20150514T000000
URL;VALUE=URI:http://www.childrensbirthdayparties.com.au/my-calendar/
DESCRIPTION:School Holidays start Thursday 2nd AprilSchol will usually go back Tuesday 21st April 
CATEGORIES:General
END:VEVENT
BEGIN:VEVENT
UID:25-1
LOCATION:
SUMMARY:School Holidays
DTSTAMP:20150427T000000
ORGANIZER;CN=Childrens Birthday Parties:MAILTO:childrensbirthdayparties1@gmail.com
DTSTART;TZID=Australia/Sydney:20150427T000000
DTEND;TZID=Australia/Sydney:20150515T000000
URL;VALUE=URI:http://www.childrensbirthdayparties.com.au/my-calendar/
DESCRIPTION:School Holidays start Thursday 2nd AprilSchol will usually go back Tuesday 21st April 
CATEGORIES:General
END:VEVENT
BEGIN:VEVENT
UID:26-1
LOCATION:
SUMMARY:School Holidays
DTSTAMP:20150428T000000
ORGANIZER;CN=Childrens Birthday Parties:MAILTO:childrensbirthdayparties1@gmail.com
DTSTART;TZID=Australia/Sydney:20150428T000000
DTEND;TZID=Australia/Sydney:20150516T000000
URL;VALUE=URI:http://www.childrensbirthdayparties.com.au/my-calendar/
DESCRIPTION:School Holidays start Thursday 2nd AprilSchol will usually go back Tuesday 21st April 
CATEGORIES:General
END:VEVENT
BEGIN:VEVENT
UID:27-1
LOCATION:
SUMMARY:School Holidays
DTSTAMP:20150429T000000
ORGANIZER;CN=Childrens Birthday Parties:MAILTO:childrensbirthdayparties1@gmail.com
DTSTART;TZID=Australia/Sydney:20150429T000000
DTEND;TZID=Australia/Sydney:20150517T000000
URL;VALUE=URI:http://www.childrensbirthdayparties.com.au/my-calendar/
DESCRIPTION:School Holidays start Thursday 2nd AprilSchol will usually go back Tuesday 21st April 
CATEGORIES:General
END:VEVENT
BEGIN:VEVENT
UID:28-1
LOCATION:
SUMMARY:School Holidays
DTSTAMP:20150430T000000
ORGANIZER;CN=Childrens Birthday Parties:MAILTO:childrensbirthdayparties1@gmail.com
DTSTART;TZID=Australia/Sydney:20150430T000000
DTEND;TZID=Australia/Sydney:20150518T000000
URL;VALUE=URI:http://www.childrensbirthdayparties.com.au/my-calendar/
DESCRIPTION:School Holidays start Thursday 2nd AprilSchol will usually go back Tuesday 21st April 
CATEGORIES:General
END:VEVENT
BEGIN:VEVENT
UID:29-1
LOCATION:
SUMMARY:School Holidays
DTSTAMP:20150501T000000
ORGANIZER;CN=Childrens Birthday Parties:MAILTO:childrensbirthdayparties1@gmail.com
DTSTART;TZID=Australia/Sydney:20150501T000000
DTEND;TZID=Australia/Sydney:20150519T000000
URL;VALUE=URI:http://www.childrensbirthdayparties.com.au/my-calendar/
DESCRIPTION:School Holidays start Thursday 2nd AprilSchol will usually go back Tuesday 21st April 
CATEGORIES:General
END:VEVENT
BEGIN:VEVENT
UID:30-1
LOCATION:
SUMMARY:School Holidays
DTSTAMP:20150502T000000
ORGANIZER;CN=Childrens Birthday Parties:MAILTO:childrensbirthdayparties1@gmail.com
DTSTART;TZID=Australia/Sydney:20150502T000000
DTEND;TZID=Australia/Sydney:20150520T000000
URL;VALUE=URI:http://www.childrensbirthdayparties.com.au/my-calendar/
DESCRIPTION:School Holidays start Thursday 2nd AprilSchol will usually go back Tuesday 21st April 
CATEGORIES:General
END:VEVENT
END:VCALENDAR